BEGIN:VCALENDAR
VERSION:2.0
PRODID:-//ADAPT - ECPv6.15.20//NONSGML v1.0//EN
CALSCALE:GREGORIAN
METHOD:PUBLISH
X-ORIGINAL-URL:https://adapt.at
X-WR-CALDESC:Veranstaltungen für ADAPT
REFRESH-INTERVAL;VALUE=DURATION:PT1H
X-Robots-Tag:noindex
X-PUBLISHED-TTL:PT1H
BEGIN:VTIMEZONE
TZID:Europe/Berlin
BEGIN:DAYLIGHT
TZOFFSETFROM:+0100
TZOFFSETTO:+0200
TZNAME:CEST
DTSTART:20250330T010000
END:DAYLIGHT
BEGIN:STANDARD
TZOFFSETFROM:+0200
TZOFFSETTO:+0100
TZNAME:CET
DTSTART:20251026T010000
END:STANDARD
BEGIN:DAYLIGHT
TZOFFSETFROM:+0100
TZOFFSETTO:+0200
TZNAME:CEST
DTSTART:20260329T010000
END:DAYLIGHT
BEGIN:STANDARD
TZOFFSETFROM:+0200
TZOFFSETTO:+0100
TZNAME:CET
DTSTART:20261025T010000
END:STANDARD
BEGIN:DAYLIGHT
TZOFFSETFROM:+0100
TZOFFSETTO:+0200
TZNAME:CEST
DTSTART:20270328T010000
END:DAYLIGHT
BEGIN:STANDARD
TZOFFSETFROM:+0200
TZOFFSETTO:+0100
TZNAME:CET
DTSTART:20271031T010000
END:STANDARD
END:VTIMEZONE
BEGIN:VTIMEZONE
TZID:Europe/Vienna
BEGIN:DAYLIGHT
TZOFFSETFROM:+0100
TZOFFSETTO:+0200
TZNAME:CEST
DTSTART:20250330T010000
END:DAYLIGHT
BEGIN:STANDARD
TZOFFSETFROM:+0200
TZOFFSETTO:+0100
TZNAME:CET
DTSTART:20251026T010000
END:STANDARD
BEGIN:DAYLIGHT
TZOFFSETFROM:+0100
TZOFFSETTO:+0200
TZNAME:CEST
DTSTART:20260329T010000
END:DAYLIGHT
BEGIN:STANDARD
TZOFFSETFROM:+0200
TZOFFSETTO:+0100
TZNAME:CET
DTSTART:20261025T010000
END:STANDARD
BEGIN:DAYLIGHT
TZOFFSETFROM:+0100
TZOFFSETTO:+0200
TZNAME:CEST
DTSTART:20270328T010000
END:DAYLIGHT
BEGIN:STANDARD
TZOFFSETFROM:+0200
TZOFFSETTO:+0100
TZNAME:CET
DTSTART:20271031T010000
END:STANDARD
END:VTIMEZONE
BEGIN:VEVENT
DTSTART;TZID=Europe/Berlin:20260427T190000
DTEND;TZID=Europe/Berlin:20260427T210000
DTSTAMP:20260421T111722
CREATED:20251120T210606Z
LAST-MODIFIED:20251120T210606Z
UID:8418-1777316400-1777323600@adapt.at
SUMMARY:Erwachsenentreffen Dornbirn
DESCRIPTION:Treffen für Information und Austausch für Erwachsene aus Vorarlberg und dem grenznahen Ausland.
URL:https://adapt.at/event/erwachsenentreffen-dornbirn-72/
LOCATION:Selbsthilfe Vorarlberg\, Schlachthausstraße 7c\, 6850 Dornbirn
CATEGORIES:Selbsthilfe
ORGANIZER;CN="SHG ADHS-Erwachsene Vorarlberg":MAILTO:adhs-erwachsene-vorarlberg@gmx.at
END:VEVENT
BEGIN:VEVENT
DTSTART;TZID=Europe/Vienna:20260427T200000
DTEND;TZID=Europe/Vienna:20260427T213000
DTSTAMP:20260421T111722
CREATED:20260312T221051Z
LAST-MODIFIED:20260323T192445Z
UID:9121-1777320000-1777325400@adapt.at
SUMMARY:ADAPT Online-Selbsthilfegruppe für Jugendliche im ADHS- & Autismus-Spektrum
DESCRIPTION:Hast du das Gefühl\, dass dein Gehirn einfach anders funktioniert?\n\nIn unserer Online-Selbsthilfegruppe kannst Du andere Jugendliche kennenlernen\, die ähnliche Erfahrungen machen. Hier hat alles Platz – ob Schule\, Stress\, Gefühle\, Beziehungen oder einfach Dinge\, die Dich gerade beschäftigen. \nWas Dich erwartet: \n\nAustausch mit anderen Jugendlichen\nVerständnis statt Bewertung\nTipps und Strategien für den Alltag\nEin sicherer Raum\, in dem Du\, Du selbst sein kannst\n\nWann? Jeden vierten Montag im Monat von 20:00 bis 21:30 Uhr \nDie Teilnahme ist kostenfrei!Altersbereich: 14 – 21 JahreWir bitten um Verständnis\, dass die Teilnahme von Kindern oder Jugendlichen unter 14 Jahren aktuell nicht möglich ist. \n\nDie Gruppenregeln zu unseren Meetings findest Du auf unserer Website:  https://adapt.at\nManche Themen sind verständlicherweise nicht immer freudig\, daher ist uns wichtig uns ist wichtig\, dass auch diese einen Platz in unseren Selbsthilfegruppen haben. Wenn Dir etwas zu viel wird\, sprich es gerne an oder gib unseren Hosts per Nachricht Bescheid.\n \n \nFür alle\, die Mitglied werden wollen:  https://adapt.at/mitglied-werden/\nInformationen zum Datenschutz:  https://adapt.at/datenschutz/\n\n\n____________________________________________________________________________ \nMicrosoft Teams-Besprechung\nTeilnehmen: https://teams.microsoft.com/meet/35829621767468?p=c5kLV2iimmI46GrbhV\nBesprechungs-ID: 358 296 217 674 68\nPasscode: Gt6VM3hm\n\n\n\n\n \n\n\n \n 
URL:https://adapt.at/event/adapt-online-selbsthilfegruppe-fuer-jugendliche-im-adhs-autismus-spektrum-2/
LOCATION:Online-Meeting
CATEGORIES:Selbsthilfe
ATTACH;FMTTYPE=image/jpeg:https://adapt.at/wp-content/uploads/2026/03/ADAPT-Teenagergruppe-Bild-1_16-9.jpg
ORGANIZER;CN="Verein ADAPT Online-Selbsthilfegruppe f%C3%BCr Jugendliche":MAILTO:teenagergruppe@adapt.at
END:VEVENT
END:VCALENDAR