BEGIN:VCALENDAR
VERSION:2.0
PRODID:-//ADAPT - ECPv6.15.20//NONSGML v1.0//EN
CALSCALE:GREGORIAN
METHOD:PUBLISH
X-ORIGINAL-URL:https://adapt.at
X-WR-CALDESC:Veranstaltungen für ADAPT
REFRESH-INTERVAL;VALUE=DURATION:PT1H
X-Robots-Tag:noindex
X-PUBLISHED-TTL:PT1H
BEGIN:VTIMEZONE
TZID:Europe/Berlin
BEGIN:DAYLIGHT
TZOFFSETFROM:+0100
TZOFFSETTO:+0200
TZNAME:CEST
DTSTART:20170326T010000
END:DAYLIGHT
BEGIN:STANDARD
TZOFFSETFROM:+0200
TZOFFSETTO:+0100
TZNAME:CET
DTSTART:20171029T010000
END:STANDARD
BEGIN:DAYLIGHT
TZOFFSETFROM:+0100
TZOFFSETTO:+0200
TZNAME:CEST
DTSTART:20180325T010000
END:DAYLIGHT
BEGIN:STANDARD
TZOFFSETFROM:+0200
TZOFFSETTO:+0100
TZNAME:CET
DTSTART:20181028T010000
END:STANDARD
BEGIN:DAYLIGHT
TZOFFSETFROM:+0100
TZOFFSETTO:+0200
TZNAME:CEST
DTSTART:20190331T010000
END:DAYLIGHT
BEGIN:STANDARD
TZOFFSETFROM:+0200
TZOFFSETTO:+0100
TZNAME:CET
DTSTART:20191027T010000
END:STANDARD
END:VTIMEZONE
BEGIN:VEVENT
DTSTART;TZID=Europe/Berlin:20180405T200000
DTEND;TZID=Europe/Berlin:20180405T220000
DTSTAMP:20260425T011443
CREATED:20180317T133613Z
LAST-MODIFIED:20180317T133613Z
UID:560-1522958400-1522965600@adapt.at
SUMMARY:Selbsthilfegruppe Tirol
DESCRIPTION:
URL:https://adapt.at/event/selbsthilfegruppe-tirol-5/
LOCATION:Selbsthilfe Tirol\, Innrain 43\, Innsbruck\, Tirol\, 6020\, Österreich
CATEGORIES:Selbsthilfe
END:VEVENT
BEGIN:VEVENT
DTSTART;TZID=Europe/Berlin:20180410T180000
DTEND;TZID=Europe/Berlin:20180410T200000
DTSTAMP:20260425T011443
CREATED:20180303T084535Z
LAST-MODIFIED:20180303T091100Z
UID:535-1523383200-1523390400@adapt.at
SUMMARY:Selbsthilfegruppe Graz
DESCRIPTION:Die Treffen finden monatlich an einem Dienstag statt. \nEs ist keine Anmeldung notwendig \nADHS Folder-6
URL:https://adapt.at/event/selbsthilfegruppe-graz/
LOCATION:Selbsthilfe Steiermark\, Lauzilgasse 25\, 3.Stock\, 8020 Graz\, Steiermark\, 8020\, Österreich
CATEGORIES:Selbsthilfe
ORGANIZER;CN="ADHS SHG Graz":MAILTO:doris@leskoschek.at
END:VEVENT
END:VCALENDAR