BEGIN:VCALENDAR
VERSION:2.0
PRODID:-//ADAPT - ECPv6.15.20//NONSGML v1.0//EN
CALSCALE:GREGORIAN
METHOD:PUBLISH
X-WR-CALNAME:ADAPT
X-ORIGINAL-URL:https://adapt.at
X-WR-CALDESC:Veranstaltungen für ADAPT
REFRESH-INTERVAL;VALUE=DURATION:PT1H
X-Robots-Tag:noindex
X-PUBLISHED-TTL:PT1H
BEGIN:VTIMEZONE
TZID:Europe/Berlin
BEGIN:DAYLIGHT
TZOFFSETFROM:+0100
TZOFFSETTO:+0200
TZNAME:CEST
DTSTART:20170326T010000
END:DAYLIGHT
BEGIN:STANDARD
TZOFFSETFROM:+0200
TZOFFSETTO:+0100
TZNAME:CET
DTSTART:20171029T010000
END:STANDARD
BEGIN:DAYLIGHT
TZOFFSETFROM:+0100
TZOFFSETTO:+0200
TZNAME:CEST
DTSTART:20180325T010000
END:DAYLIGHT
BEGIN:STANDARD
TZOFFSETFROM:+0200
TZOFFSETTO:+0100
TZNAME:CET
DTSTART:20181028T010000
END:STANDARD
BEGIN:DAYLIGHT
TZOFFSETFROM:+0100
TZOFFSETTO:+0200
TZNAME:CEST
DTSTART:20190331T010000
END:DAYLIGHT
BEGIN:STANDARD
TZOFFSETFROM:+0200
TZOFFSETTO:+0100
TZNAME:CET
DTSTART:20191027T010000
END:STANDARD
END:VTIMEZONE
BEGIN:VEVENT
DTSTART;TZID=Europe/Berlin:20180503T200000
DTEND;TZID=Europe/Berlin:20180503T220000
DTSTAMP:20260424T233809
CREATED:20180501T143455Z
LAST-MODIFIED:20180501T143455Z
UID:595-1525377600-1525384800@adapt.at
SUMMARY:Selbsthilfegruppe Innsbruck
DESCRIPTION:
URL:https://adapt.at/event/selbsthilfegruppe-innsbruck/
LOCATION:Selbsthilfe Tirol\, Innrain 43\, Innsbruck\, Tirol\, 6020\, Österreich
CATEGORIES:Selbsthilfe
END:VEVENT
BEGIN:VEVENT
DTSTART;TZID=Europe/Berlin:20180508T180000
DTEND;TZID=Europe/Berlin:20180508T200000
DTSTAMP:20260424T233809
CREATED:20180303T085122Z
LAST-MODIFIED:20180303T091154Z
UID:537-1525802400-1525809600@adapt.at
SUMMARY:Selbsthilfegruppe Graz
DESCRIPTION:Die Treffen finden monatlich an einem Dienstag statt. \nEs ist keine Anmeldung notwendig \nADHS Folder-6
URL:https://adapt.at/event/selbsthilfegruppe-graz-2/
LOCATION:Selbsthilfe Steiermark\, Lauzilgasse 25\, 3.Stock\, 8020 Graz\, Steiermark\, 8020\, Österreich
CATEGORIES:Selbsthilfe
ORGANIZER;CN="ADHS SHG Graz":MAILTO:doris@leskoschek.at
END:VEVENT
END:VCALENDAR