BEGIN:VCALENDAR
VERSION:2.0
PRODID:-//ADAPT - ECPv6.15.20//NONSGML v1.0//EN
CALSCALE:GREGORIAN
METHOD:PUBLISH
X-ORIGINAL-URL:https://adapt.at
X-WR-CALDESC:Veranstaltungen für ADAPT
REFRESH-INTERVAL;VALUE=DURATION:PT1H
X-Robots-Tag:noindex
X-PUBLISHED-TTL:PT1H
BEGIN:VTIMEZONE
TZID:Europe/Berlin
BEGIN:DAYLIGHT
TZOFFSETFROM:+0100
TZOFFSETTO:+0200
TZNAME:CEST
DTSTART:20190331T010000
END:DAYLIGHT
BEGIN:STANDARD
TZOFFSETFROM:+0200
TZOFFSETTO:+0100
TZNAME:CET
DTSTART:20191027T010000
END:STANDARD
BEGIN:DAYLIGHT
TZOFFSETFROM:+0100
TZOFFSETTO:+0200
TZNAME:CEST
DTSTART:20200329T010000
END:DAYLIGHT
BEGIN:STANDARD
TZOFFSETFROM:+0200
TZOFFSETTO:+0100
TZNAME:CET
DTSTART:20201025T010000
END:STANDARD
BEGIN:DAYLIGHT
TZOFFSETFROM:+0100
TZOFFSETTO:+0200
TZNAME:CEST
DTSTART:20210328T010000
END:DAYLIGHT
BEGIN:STANDARD
TZOFFSETFROM:+0200
TZOFFSETTO:+0100
TZNAME:CET
DTSTART:20211031T010000
END:STANDARD
END:VTIMEZONE
BEGIN:VEVENT
DTSTART;TZID=Europe/Berlin:20200102T200000
DTEND;TZID=Europe/Berlin:20200102T220000
DTSTAMP:20260423T194622
CREATED:20191221T192940Z
LAST-MODIFIED:20191221T193122Z
UID:882-1577995200-1578002400@adapt.at
SUMMARY:Selbsthilfegruppe Tirol
DESCRIPTION:
URL:https://adapt.at/event/selbsthilfegruppe-tirol-10/
LOCATION:Selbsthilfe Tirol\, Innrain 43\, Innsbruck\, Tirol\, 6020\, Österreich
CATEGORIES:Selbsthilfe
END:VEVENT
BEGIN:VEVENT
DTSTART;TZID=Europe/Berlin:20200114T180000
DTEND;TZID=Europe/Berlin:20200114T200000
DTSTAMP:20260423T194622
CREATED:20191213T201203Z
LAST-MODIFIED:20191213T201203Z
UID:877-1579024800-1579032000@adapt.at
SUMMARY:Selbsthilfegruppe Graz
DESCRIPTION:
URL:https://adapt.at/event/selbsthilfegruppe-graz-20/
LOCATION:Selbsthilfe Steiermark\, Lauzilgasse 25\, 3.Stock\, 8020 Graz\, Steiermark\, 8020\, Österreich
CATEGORIES:Selbsthilfe
ORGANIZER;CN="ADHS SHG Graz":MAILTO:doris@leskoschek.at
END:VEVENT
END:VCALENDAR