BEGIN:VCALENDAR
VERSION:2.0
PRODID:-//ADAPT - ECPv6.15.20//NONSGML v1.0//EN
CALSCALE:GREGORIAN
METHOD:PUBLISH
X-WR-CALNAME:ADAPT
X-ORIGINAL-URL:https://adapt.at
X-WR-CALDESC:Veranstaltungen für ADAPT
REFRESH-INTERVAL;VALUE=DURATION:PT1H
X-Robots-Tag:noindex
X-PUBLISHED-TTL:PT1H
BEGIN:VTIMEZONE
TZID:Europe/Berlin
BEGIN:DAYLIGHT
TZOFFSETFROM:+0100
TZOFFSETTO:+0200
TZNAME:CEST
DTSTART:20230326T010000
END:DAYLIGHT
BEGIN:STANDARD
TZOFFSETFROM:+0200
TZOFFSETTO:+0100
TZNAME:CET
DTSTART:20231029T010000
END:STANDARD
BEGIN:DAYLIGHT
TZOFFSETFROM:+0100
TZOFFSETTO:+0200
TZNAME:CEST
DTSTART:20240331T010000
END:DAYLIGHT
BEGIN:STANDARD
TZOFFSETFROM:+0200
TZOFFSETTO:+0100
TZNAME:CET
DTSTART:20241027T010000
END:STANDARD
BEGIN:DAYLIGHT
TZOFFSETFROM:+0100
TZOFFSETTO:+0200
TZNAME:CEST
DTSTART:20250330T010000
END:DAYLIGHT
BEGIN:STANDARD
TZOFFSETFROM:+0200
TZOFFSETTO:+0100
TZNAME:CET
DTSTART:20251026T010000
END:STANDARD
END:VTIMEZONE
BEGIN:VEVENT
DTSTART;TZID=Europe/Berlin:20240307T200000
DTEND;TZID=Europe/Berlin:20240307T220000
DTSTAMP:20260421T005054
CREATED:20240215T113632Z
LAST-MODIFIED:20240215T113632Z
UID:4492-1709841600-1709848800@adapt.at
SUMMARY:Selbsthilfetreffen Innsbruck
DESCRIPTION:
URL:https://adapt.at/event/selbsthilfetreffen-innsbruck-17/
LOCATION:Selbsthilfe Tirol\, Innrain 43\, Innsbruck\, Tirol\, 6020\, Österreich
CATEGORIES:Selbsthilfe
END:VEVENT
BEGIN:VEVENT
DTSTART;TZID=Europe/Berlin:20240320T190000
DTEND;TZID=Europe/Berlin:20240320T210000
DTSTAMP:20260421T005054
CREATED:20230916T070731Z
LAST-MODIFIED:20240317T125813Z
UID:4166-1710961200-1710968400@adapt.at
SUMMARY:ADAPT Online Erwachsenentreffen
DESCRIPTION:Auf Initiative von Mitgliedern aus den Bundesländern bietet ADAPT jetzt auch einen fixen Onlinetermin zusätzlich zu den lokalen Präsenzmeetings an. Dies soll u.a. eine praktische Alternative für Menschen sein\, die es wegen weiter Anfahrt oder aus organisatorischen Gründen nicht zu den lokalen Selbsthilfetreffen schaffen. \n\n\n\nEine Mitgliedschaft bei ADAPT oder eine Voranmeldung ist für die Teilnahme nicht nötig. Für alle Gespräche gilt die gleiche Vertraulichkeit wie bei klassischen Selbsthilfetreffen. \nUhrzeit: Immer am dritten Mittwoch des Monats von 19:00 bis 21:00 Uhr. \nhttps://us02web.zoom.us/j/82153574622?pwd=UXBZbUpoK3Z2TnQ5K2tnekZQSUl2Zz09 \nMeeting-ID: 821 5357 4622\nKenncode: 195373 \nCredits: Bild von Vectorjuice auf freepik.com
URL:https://adapt.at/event/adapt-online-erwachsenentreffen-7/
LOCATION:Online Veranstaltung
CATEGORIES:Selbsthilfe
ATTACH;FMTTYPE=image/jpeg:https://adapt.at/wp-content/uploads/2023/09/Wavy_Bus-35_Single-02-scaled.jpg
ORGANIZER;CN="Verein ADAPT":MAILTO:kontakt@adapt.at
END:VEVENT
END:VCALENDAR