BEGIN:VCALENDAR
VERSION:2.0
PRODID:-//ADAPT - ECPv6.15.20//NONSGML v1.0//EN
CALSCALE:GREGORIAN
METHOD:PUBLISH
X-ORIGINAL-URL:https://adapt.at
X-WR-CALDESC:Veranstaltungen für ADAPT
REFRESH-INTERVAL;VALUE=DURATION:PT1H
X-Robots-Tag:noindex
X-PUBLISHED-TTL:PT1H
BEGIN:VTIMEZONE
TZID:Europe/Berlin
BEGIN:DAYLIGHT
TZOFFSETFROM:+0100
TZOFFSETTO:+0200
TZNAME:CEST
DTSTART:20230326T010000
END:DAYLIGHT
BEGIN:STANDARD
TZOFFSETFROM:+0200
TZOFFSETTO:+0100
TZNAME:CET
DTSTART:20231029T010000
END:STANDARD
BEGIN:DAYLIGHT
TZOFFSETFROM:+0100
TZOFFSETTO:+0200
TZNAME:CEST
DTSTART:20240331T010000
END:DAYLIGHT
BEGIN:STANDARD
TZOFFSETFROM:+0200
TZOFFSETTO:+0100
TZNAME:CET
DTSTART:20241027T010000
END:STANDARD
BEGIN:DAYLIGHT
TZOFFSETFROM:+0100
TZOFFSETTO:+0200
TZNAME:CEST
DTSTART:20250330T010000
END:DAYLIGHT
BEGIN:STANDARD
TZOFFSETFROM:+0200
TZOFFSETTO:+0100
TZNAME:CET
DTSTART:20251026T010000
END:STANDARD
END:VTIMEZONE
BEGIN:VEVENT
DTSTART;TZID=Europe/Berlin:20241205T200000
DTEND;TZID=Europe/Berlin:20241205T220000
DTSTAMP:20260420T112930
CREATED:20240215T132815Z
LAST-MODIFIED:20240215T132815Z
UID:4524-1733428800-1733436000@adapt.at
SUMMARY:Selbsthilfetreffen Innsbruck
DESCRIPTION:
URL:https://adapt.at/event/selbsthilfetreffen-innsbruck-26/
LOCATION:Selbsthilfe Tirol\, Innrain 43\, Innsbruck\, Tirol\, 6020\, Österreich
CATEGORIES:Selbsthilfe
END:VEVENT
BEGIN:VEVENT
DTSTART;TZID=Europe/Berlin:20241218T190000
DTEND;TZID=Europe/Berlin:20241218T210000
DTSTAMP:20260420T112930
CREATED:20230916T074932Z
LAST-MODIFIED:20241017T162259Z
UID:4185-1734548400-1734555600@adapt.at
SUMMARY:ADAPT Online Erwachsenentreffen
DESCRIPTION:Du möchtest andere Erwachsene treffen\, bist aber aus einem Dorf\, wo abends kein Bus mehr fährt? Hast am Termin der lokalen Gruppe schon etwas Anderes im Kalender? Es gibt viele Gründe\, warum ein Online-Treffen eine praktische Alternative darstellen kann. Mitglieder aus den Bundesländern haben deshalb dieses Meeting gestartet. Offen für alle Interessierten aus dem deutschen Sprachraum\, egal ob Stadt oder Land; unser Schwerpunkt ist aber Österreich. \nMitgliedschaft bei ADAPT oder Anmeldung ist für die Teilnahme nicht nötig. Für alle Gespräche gilt die gleiche Vertraulichkeit wie bei klassischen Selbsthilfetreffen. \nZeit: Immer am dritten Mittwoch des Monats von 19:00 bis 21:00 Uhr.\nKontaktadresse für Fragen und Anregungen hier \nBeitreten Zoom Meeting\nhttps://zoom.us/j/99936126858?pwd=deKg8a6Cbkyb4PsZU9WmPyXjUK5FUs.1 \nMeeting-ID: 999 3612 6858\nKenncode: 110931
URL:https://adapt.at/event/adapt-online-erwachsenentreffen-16/
LOCATION:Online Veranstaltung
CATEGORIES:Selbsthilfe
ATTACH;FMTTYPE=image/jpeg:https://adapt.at/wp-content/uploads/2023/09/Wavy_Bus-35_Single-02-scaled.jpg
ORGANIZER;CN="Verein ADAPT":MAILTO:kontakt@adapt.at
END:VEVENT
END:VCALENDAR