BEGIN:VCALENDAR
VERSION:2.0
PRODID:-//ADAPT - ECPv6.15.20//NONSGML v1.0//EN
CALSCALE:GREGORIAN
METHOD:PUBLISH
X-ORIGINAL-URL:https://adapt.at
X-WR-CALDESC:Veranstaltungen für ADAPT
REFRESH-INTERVAL;VALUE=DURATION:PT1H
X-Robots-Tag:noindex
X-PUBLISHED-TTL:PT1H
BEGIN:VTIMEZONE
TZID:Europe/Berlin
BEGIN:DAYLIGHT
TZOFFSETFROM:+0100
TZOFFSETTO:+0200
TZNAME:CEST
DTSTART:20240331T010000
END:DAYLIGHT
BEGIN:STANDARD
TZOFFSETFROM:+0200
TZOFFSETTO:+0100
TZNAME:CET
DTSTART:20241027T010000
END:STANDARD
BEGIN:DAYLIGHT
TZOFFSETFROM:+0100
TZOFFSETTO:+0200
TZNAME:CEST
DTSTART:20250330T010000
END:DAYLIGHT
BEGIN:STANDARD
TZOFFSETFROM:+0200
TZOFFSETTO:+0100
TZNAME:CET
DTSTART:20251026T010000
END:STANDARD
BEGIN:DAYLIGHT
TZOFFSETFROM:+0100
TZOFFSETTO:+0200
TZNAME:CEST
DTSTART:20260329T010000
END:DAYLIGHT
BEGIN:STANDARD
TZOFFSETFROM:+0200
TZOFFSETTO:+0100
TZNAME:CET
DTSTART:20261025T010000
END:STANDARD
END:VTIMEZONE
BEGIN:VEVENT
DTSTART;TZID=Europe/Berlin:20250403T200000
DTEND;TZID=Europe/Berlin:20250403T220000
DTSTAMP:20260420T054651
CREATED:20241022T114838Z
LAST-MODIFIED:20241022T114838Z
UID:5572-1743710400-1743717600@adapt.at
SUMMARY:Selbsthilfetreffen Innsbruck
DESCRIPTION:Selbsthilfetreffen für Betroffene und Angehörige/Eltern finden immer am ersten Donnerstag des Monat statt in den Räumlichkeiten der Selbsthilfe Tirol (Innsbruck\, Innrain 43).
URL:https://adapt.at/event/selbsthilfetreffen-innsbruck-30/
LOCATION:Selbsthilfe Tirol\, Innrain 43\, Innsbruck\, Tirol\, 6020\, Österreich
CATEGORIES:Selbsthilfe
END:VEVENT
BEGIN:VEVENT
DTSTART;TZID=Europe/Berlin:20250407T180000
DTEND;TZID=Europe/Berlin:20250407T200000
DTSTAMP:20260420T054651
CREATED:20241206T135956Z
LAST-MODIFIED:20241207T074159Z
UID:6164-1744048800-1744056000@adapt.at
SUMMARY:Selbsthilfegruppe Linz für Erwachsene und Angehörige
DESCRIPTION:
URL:https://adapt.at/event/selbsthilfegruppe-linz-fuer-erwachsene-und-angehoerige-4/
LOCATION:Selbsthilfe OÖ ÖGK-Gesundheitszentrum\, Garnisonstraße 1a\, 2. Stock\, Linz\, Oberösterreich\, 4021\, Austria
CATEGORIES:Selbsthilfe
ATTACH;FMTTYPE=image/png:https://adapt.at/wp-content/uploads/2024/12/SHG-Linz-Termine_2025_Page_1-1.png
ORGANIZER;CN="SHG Linz Erwachsene und Angeh%C3%B6rige":MAILTO:adhs-linz@protonmail.com
END:VEVENT
BEGIN:VEVENT
DTSTART;TZID=Europe/Berlin:20250416T190000
DTEND;TZID=Europe/Berlin:20250416T210000
DTSTAMP:20260420T054651
CREATED:20230916T075209Z
LAST-MODIFIED:20241017T161329Z
UID:4193-1744830000-1744837200@adapt.at
SUMMARY:ADAPT Online Erwachsenentreffen
DESCRIPTION:Du möchtest andere Erwachsene treffen\, bist aber aus einem Dorf\, wo abends kein Bus mehr fährt? Hast am Termin der lokalen Gruppe schon etwas Anderes im Kalender? Es gibt viele Gründe\, warum ein Online-Treffen eine praktische Alternative darstellen kann. Mitglieder aus den Bundesländern haben deshalb dieses Meeting gestartet. Offen für alle Interessierten aus dem deutschen Sprachraum\, egal ob Stadt oder Land; unser Schwerpunkt ist aber Österreich. \nMitgliedschaft bei ADAPT oder Anmeldung ist für die Teilnahme nicht nötig. Für alle Gespräche gilt die gleiche Vertraulichkeit wie bei klassischen Selbsthilfetreffen. \nZeit: Immer am dritten Mittwoch des Monats von 19:00 bis 21:00 Uhr.\nKontaktadresse für Fragen und Anregungen hier \nBeitreten Zoom Meeting\nhttps://zoom.us/j/99936126858?pwd=deKg8a6Cbkyb4PsZU9WmPyXjUK5FUs.1 \nMeeting-ID: 999 3612 6858\nKenncode: 110931
URL:https://adapt.at/event/adapt-online-erwachsenentreffen-20/
LOCATION:Online Veranstaltung
CATEGORIES:Selbsthilfe
ATTACH;FMTTYPE=image/jpeg:https://adapt.at/wp-content/uploads/2023/09/Wavy_Bus-35_Single-02-scaled.jpg
ORGANIZER;CN="Verein ADAPT":MAILTO:kontakt@adapt.at
END:VEVENT
END:VCALENDAR