BEGIN:VCALENDAR
VERSION:2.0
PRODID:-//ADAPT - ECPv6.15.20//NONSGML v1.0//EN
CALSCALE:GREGORIAN
METHOD:PUBLISH
X-WR-CALNAME:ADAPT
X-ORIGINAL-URL:https://adapt.at
X-WR-CALDESC:Veranstaltungen für ADAPT
REFRESH-INTERVAL;VALUE=DURATION:PT1H
X-Robots-Tag:noindex
X-PUBLISHED-TTL:PT1H
BEGIN:VTIMEZONE
TZID:Europe/Berlin
BEGIN:DAYLIGHT
TZOFFSETFROM:+0100
TZOFFSETTO:+0200
TZNAME:CEST
DTSTART:20230326T010000
END:DAYLIGHT
BEGIN:STANDARD
TZOFFSETFROM:+0200
TZOFFSETTO:+0100
TZNAME:CET
DTSTART:20231029T010000
END:STANDARD
BEGIN:DAYLIGHT
TZOFFSETFROM:+0100
TZOFFSETTO:+0200
TZNAME:CEST
DTSTART:20240331T010000
END:DAYLIGHT
BEGIN:STANDARD
TZOFFSETFROM:+0200
TZOFFSETTO:+0100
TZNAME:CET
DTSTART:20241027T010000
END:STANDARD
BEGIN:DAYLIGHT
TZOFFSETFROM:+0100
TZOFFSETTO:+0200
TZNAME:CEST
DTSTART:20250330T010000
END:DAYLIGHT
BEGIN:STANDARD
TZOFFSETFROM:+0200
TZOFFSETTO:+0100
TZNAME:CET
DTSTART:20251026T010000
END:STANDARD
END:VTIMEZONE
BEGIN:VEVENT
DTSTART;TZID=Europe/Berlin:20241116T084500
DTEND;TZID=Europe/Berlin:20241116T170000
DTSTAMP:20260420T204649
CREATED:20240617T214241Z
LAST-MODIFIED:20241003T092646Z
UID:4847-1731746700-1731776400@adapt.at
SUMMARY:ADAPT Trialog 2024 - "Train the Expert"
DESCRIPTION:Der dritte Trialog von ADAPT steht unter dem Motto „ADHS – Train the Expert“. \nUnser Schwerpunkt ist also die notwendige Schulung all jener Berufsgruppen\, die bei ihrer Tätigkeit mit ADHS-Betroffenen aller Altersstufen in Kontakt kommen. \nUnter den Vortragenden finden sich bekannte Namen wie Dr. Astrid Neuy-Lobkowitz und Professor Dr. Gerhard Lauth. \nDas genaue Programm finden Sie hier. \nKosten: € 25\,- (einfache Teilnahme) bzw. € 70\,- (mit Fortbildungszertifikat für Psychotherapeut:innen und LSB)Für Mitglieder von ADAPT ist die einfache Teilnahme kostenlos\, mit Zertifikat beträgt sie 45\,- Euro. \nBuchen Sie hier die jeweilige Teilnahmemöglichkeit: \n\nTicket mit Zertifikat zur Teilnahme um € 70\,-\nTicket für die einfache Teilnahme um € 25\,- – für Mitglieder kostenfrei\,beim Kauf den Mitgliedscode angeben – Anmeldung notwendig!\nextra Zertifikat zur Teilnahme € 45\,- – Möglichkeit zur Aufbuchung für das Zertifikat\, auch für Mitglieder.\n\nDie Veranstaltung findet online via Zoom statt.Nach jedem Referat gibt es die Gelegenheit\, Fragen zu stellen.
URL:https://adapt.at/event/adapt-trialog-2024-train-the-expert/
LOCATION:Online Veranstaltung
CATEGORIES:Event,Fortbildung,Vortrag
ATTACH;FMTTYPE=image/jpeg:https://adapt.at/wp-content/uploads/2024/09/Symp3Adapt.jpeg
ORGANIZER;CN="Verein ADAPT":MAILTO:kontakt@adapt.at
END:VEVENT
END:VCALENDAR