BEGIN:VCALENDAR
VERSION:2.0
PRODID:-//ADAPT - ECPv6.15.20//NONSGML v1.0//EN
CALSCALE:GREGORIAN
METHOD:PUBLISH
X-ORIGINAL-URL:https://adapt.at
X-WR-CALDESC:Veranstaltungen für ADAPT
REFRESH-INTERVAL;VALUE=DURATION:PT1H
X-Robots-Tag:noindex
X-PUBLISHED-TTL:PT1H
BEGIN:VTIMEZONE
TZID:Europe/Berlin
BEGIN:DAYLIGHT
TZOFFSETFROM:+0100
TZOFFSETTO:+0200
TZNAME:CEST
DTSTART:20220327T010000
END:DAYLIGHT
BEGIN:STANDARD
TZOFFSETFROM:+0200
TZOFFSETTO:+0100
TZNAME:CET
DTSTART:20221030T010000
END:STANDARD
BEGIN:DAYLIGHT
TZOFFSETFROM:+0100
TZOFFSETTO:+0200
TZNAME:CEST
DTSTART:20230326T010000
END:DAYLIGHT
BEGIN:STANDARD
TZOFFSETFROM:+0200
TZOFFSETTO:+0100
TZNAME:CET
DTSTART:20231029T010000
END:STANDARD
BEGIN:DAYLIGHT
TZOFFSETFROM:+0100
TZOFFSETTO:+0200
TZNAME:CEST
DTSTART:20240331T010000
END:DAYLIGHT
BEGIN:STANDARD
TZOFFSETFROM:+0200
TZOFFSETTO:+0100
TZNAME:CET
DTSTART:20241027T010000
END:STANDARD
END:VTIMEZONE
BEGIN:VEVENT
DTSTART;TZID=Europe/Berlin:20230504T200000
DTEND;TZID=Europe/Berlin:20230504T220000
DTSTAMP:20260423T052739
CREATED:20230210T224746Z
LAST-MODIFIED:20230210T224746Z
UID:1827-1683230400-1683237600@adapt.at
SUMMARY:Selbsthilfetreffen Innsbruck
DESCRIPTION:
URL:https://adapt.at/event/selbsthilfetreffen-innsbruck-9/
LOCATION:Selbsthilfe Tirol\, Innrain 43\, Innsbruck\, Tirol\, 6020\, Österreich
CATEGORIES:Selbsthilfe
END:VEVENT
BEGIN:VEVENT
DTSTART;TZID=Europe/Berlin:20230513T133000
DTEND;TZID=Europe/Berlin:20230513T203000
DTSTAMP:20260423T052739
CREATED:20230506T162249Z
LAST-MODIFIED:20230513T161259Z
UID:3870-1683984600-1684009800@adapt.at
SUMMARY:Symposium 20 Jahre Selbsthilfegruppe ADHS Innsbruck
DESCRIPTION:Einlass und Registrierung: 13:30 Uhr \nBeginn: 14:00 \nVorträge: \nProf. Dr. Michael Jung \n\nADHS aus Sicht der Therapieberufe – eine interprofessionelle Herausforderung\n\nUniv. Prof. Dr. Christian Popow \n\nADHS – das Recht auf Diagnose und Behandlung\n\n Workshops: \nMag. Katja Gastl\, MSc \n\nErgotherapie bei ADHS – Ansätze und Methoden\n\nVanessa Carlone \n\n„Als ob Grillen auf meinem Rücken Klavier spielen würden“ – Musiktherapie bei Kindern mit ADHS\n\nKarin Ratschiller \n\nDarm-Mikrobiom und Mikronährstoffen bei ADHS\n\nSabine Linasi \n\nBewegung und Sport bei ADHS\n\nAmina Egg \n\nKinesiologische und\n\nenergetische Übungen für mehr Wohlbefinden und Ausgeglichenheit für Kinder und Erwachsene \nAlle Interessierten sind zur kostenlosen Teilnahme herzlich eingeladen! \nInfos zur Anreise auf  ADHS Symposium – InnZentrum. \n  \n  \n  \n\n\n\n\n\n\n\n\n\n\n\n\n\n\n\n\n\n\n\n\n\n\n\n\n\n\n\n\n\n\n\n\n\n\n\n\n\n\n\n\n\n\n\n\n\n\n\n\n\n\n\n\n\n\n\n\n\n\n\n\n\n\n\n\n\n\n\n\n\n\n 
URL:https://adapt.at/event/symposium-20-jahre-selbsthilfegruppe-adhs-innsbruck/
LOCATION:InnZentrum OG\, Rennweg 7/2\, 6020 Innsbruck\, Rennweg 7/2\, Innsbruck\, 6020
CATEGORIES:Event,Selbsthilfe
END:VEVENT
END:VCALENDAR